BEGIN:VCALENDAR
VERSION:2.0
PRODID:-//神田外語大学 キャリア教育センター - Kanda University of International Studies Career Education Center - ECPv5.4.0.2//NONSGML v1.0//EN
CALSCALE:GREGORIAN
METHOD:PUBLISH
X-WR-CALNAME:神田外語大学 キャリア教育センター - Kanda University of International Studies Career Education Center
X-ORIGINAL-URL:https://www.kandagaigo.ac.jp/kuis/main/career
X-WR-CALDESC:神田外語大学 キャリア教育センター - Kanda University of International Studies Career Education Center のイベント
BEGIN:VTIMEZONE
TZID:Asia/Tokyo
BEGIN:STANDARD
TZOFFSETFROM:+0900
TZOFFSETTO:+0900
TZNAME:JST
DTSTART:20220101T000000
END:STANDARD
END:VTIMEZONE
BEGIN:VEVENT
DTSTART;TZID=Asia/Tokyo:20220425T100000
DTEND;TZID=Asia/Tokyo:20220425T151000
DTSTAMP:20260421T214205
CREATED:20220414T053352Z
LAST-MODIFIED:20220414T053913Z
UID:2655-1650880800-1650899400@www.kandagaigo.ac.jp
SUMMARY:（2023年3月卒業予定者）：KUIS生限定!WEB合同企業説明会のお知らせ　4/25(月)開催！
DESCRIPTION:
URL:https://www.kandagaigo.ac.jp/kuis/main/career/events/20220414/
CATEGORIES:在校生向け
END:VEVENT
BEGIN:VEVENT
DTSTART;TZID=Asia/Tokyo:20220426T121500
DTEND;TZID=Asia/Tokyo:20220426T130000
DTSTAMP:20260421T214205
CREATED:20220413T035416Z
LAST-MODIFIED:20220418T025457Z
UID:2649-1650975300-1650978000@www.kandagaigo.ac.jp
SUMMARY:（2023年3月卒業予定者）：学内企業説明会（ANAエアポートサービス）
DESCRIPTION:
URL:https://www.kandagaigo.ac.jp/kuis/main/career/events/20220413/
CATEGORIES:在校生向け
END:VEVENT
BEGIN:VEVENT
DTSTART;TZID=Asia/Tokyo:20220427T163000
DTEND;TZID=Asia/Tokyo:20220427T180000
DTSTAMP:20260421T214205
CREATED:20220404T062841Z
LAST-MODIFIED:20220421T040236Z
UID:2504-1651077000-1651082400@www.kandagaigo.ac.jp
SUMMARY:3年生対象（2024年3月卒業予定者）：就活スタートアップセミナー＆質問会（マイナビ）
DESCRIPTION:
URL:https://www.kandagaigo.ac.jp/kuis/main/career/events/20220427/
CATEGORIES:在校生向け
ATTACH;FMTTYPE=image/jpeg:https://www.kandagaigo.ac.jp/kuis/main/career/wp-content/uploads/2022/04/c659d450161f958c2e857f1685ddcebd.jpg
END:VEVENT
BEGIN:VEVENT
DTSTART;TZID=Asia/Tokyo:20220511T163000
DTEND;TZID=Asia/Tokyo:20220511T180000
DTSTAMP:20260421T214205
CREATED:20220506T020432Z
LAST-MODIFIED:20220506T045756Z
UID:2682-1652286600-1652292000@www.kandagaigo.ac.jp
SUMMARY:3年生対象（2024年3月卒業予定者）：就活で知っておいた方がいいこと！セミナー
DESCRIPTION:
URL:https://www.kandagaigo.ac.jp/kuis/main/career/events/20220511/
CATEGORIES:在校生向け
ATTACH;FMTTYPE=image/jpeg:https://www.kandagaigo.ac.jp/kuis/main/career/wp-content/uploads/2022/05/New-file.jpeg
END:VEVENT
BEGIN:VEVENT
DTSTART;TZID=Asia/Tokyo:20220518T163000
DTEND;TZID=Asia/Tokyo:20220518T180000
DTSTAMP:20260421T214205
CREATED:20220513T033831Z
LAST-MODIFIED:20220513T042253Z
UID:2728-1652891400-1652896800@www.kandagaigo.ac.jp
SUMMARY:3年生対象（2024年3月卒業予定者）：就活プログラム～～自己分析講座～～先輩学生が後悔していること第1位！！
DESCRIPTION:
URL:https://www.kandagaigo.ac.jp/kuis/main/career/events/20220518/
CATEGORIES:在校生向け
END:VEVENT
BEGIN:VEVENT
DTSTART;VALUE=DATE:20220519
DTEND;VALUE=DATE:20220521
DTSTAMP:20260421T214205
CREATED:20220506T031149Z
LAST-MODIFIED:20220506T031400Z
UID:2684-1652918400-1653091199@www.kandagaigo.ac.jp
SUMMARY:（2023年卒対象）：KUIS生限定!WEB合同会社説明会のお知らせ　5/19(木)20(金)開催！
DESCRIPTION:
URL:https://www.kandagaigo.ac.jp/kuis/main/career/events/20220519-20/
CATEGORIES:在校生向け
ATTACH;FMTTYPE=image/jpeg:https://www.kandagaigo.ac.jp/kuis/main/career/wp-content/uploads/2022/05/ee5c12f04ecc6dda37613c8bf4c7e365.jpg
END:VEVENT
BEGIN:VEVENT
DTSTART;TZID=Asia/Tokyo:20220519T121500
DTEND;TZID=Asia/Tokyo:20220519T130000
DTSTAMP:20260421T214205
CREATED:20220511T015756Z
LAST-MODIFIED:20220511T015942Z
UID:2711-1652962500-1652965200@www.kandagaigo.ac.jp
SUMMARY:【4年生対象】企業説明会開催！！　DHLサプライチェーン
DESCRIPTION:
URL:https://www.kandagaigo.ac.jp/kuis/main/career/events/20220519/
CATEGORIES:在校生向け
END:VEVENT
BEGIN:VEVENT
DTSTART;TZID=Asia/Tokyo:20220525T122000
DTEND;TZID=Asia/Tokyo:20220525T130000
DTSTAMP:20260421T214205
CREATED:20220506T084125Z
LAST-MODIFIED:20220506T084219Z
UID:2705-1653481200-1653483600@www.kandagaigo.ac.jp
SUMMARY:＜海外で働く！＞メキシコ就職セミナーのお知らせ
DESCRIPTION:
URL:https://www.kandagaigo.ac.jp/kuis/main/career/events/%ef%bc%9c%e6%b5%b7%e5%a4%96%e3%81%a7%e5%83%8d%e3%81%8f%ef%bc%81%ef%bc%9e%e3%83%a1%e3%82%ad%e3%82%b7%e3%82%b3%e5%b0%b1%e8%81%b7%e3%82%bb%e3%83%9f%e3%83%8a%e3%83%bc%e3%81%ae%e3%81%8a%e7%9f%a5%e3%82%89/
CATEGORIES:在校生向け
END:VEVENT
BEGIN:VEVENT
DTSTART;TZID=Asia/Tokyo:20220525T163000
DTEND;TZID=Asia/Tokyo:20220525T180000
DTSTAMP:20260421T214205
CREATED:20220519T050554Z
LAST-MODIFIED:20220519T050855Z
UID:2755-1653496200-1653501600@www.kandagaigo.ac.jp
SUMMARY:3年生対象（2024年3月卒業予定者）：就活プログラム～企業の探し方＆合説の回り方【マイナビ】
DESCRIPTION:
URL:https://www.kandagaigo.ac.jp/kuis/main/career/events/20220525/
CATEGORIES:在校生向け
END:VEVENT
BEGIN:VEVENT
DTSTART;TZID=Asia/Tokyo:20220601T163000
DTEND;TZID=Asia/Tokyo:20220601T180000
DTSTAMP:20260421T214205
CREATED:20220530T040028Z
LAST-MODIFIED:20220530T064751Z
UID:2772-1654101000-1654106400@www.kandagaigo.ac.jp
SUMMARY:3年生対象（2024年3月卒業予定者）：6月1日（水）業界・企業研究講座【ディスコ】
DESCRIPTION:
URL:https://www.kandagaigo.ac.jp/kuis/main/career/events/20220601/
CATEGORIES:在校生向け
ATTACH;FMTTYPE=image/jpeg:https://www.kandagaigo.ac.jp/kuis/main/career/wp-content/uploads/2022/05/605d753ef671ef153dfad8dbaf941b11.jpg
END:VEVENT
END:VCALENDAR