BEGIN:VCALENDAR
VERSION:2.0
PRODID:-//神田外語大学 キャリア教育センター - Kanda University of International Studies Career Education Center - ECPv5.4.0.2//NONSGML v1.0//EN
CALSCALE:GREGORIAN
METHOD:PUBLISH
X-WR-CALNAME:神田外語大学 キャリア教育センター - Kanda University of International Studies Career Education Center
X-ORIGINAL-URL:https://www.kandagaigo.ac.jp/kuis/main/career
X-WR-CALDESC:神田外語大学 キャリア教育センター - Kanda University of International Studies Career Education Center のイベント
BEGIN:VTIMEZONE
TZID:Asia/Tokyo
BEGIN:STANDARD
TZOFFSETFROM:+0900
TZOFFSETTO:+0900
TZNAME:JST
DTSTART:20220101T000000
END:STANDARD
END:VTIMEZONE
BEGIN:VEVENT
DTSTART;TZID=Asia/Tokyo:20220105T163000
DTEND;TZID=Asia/Tokyo:20220105T180000
DTSTAMP:20260424T012618
CREATED:20211222T061146Z
LAST-MODIFIED:20220412T004753Z
UID:2161-1641400200-1641405600@www.kandagaigo.ac.jp
SUMMARY:3年生対象（2023年3月卒業予定者）：就活直前の振り返りと3月までの過ごし方【マイナビ主催】
DESCRIPTION:
URL:https://www.kandagaigo.ac.jp/kuis/main/career/events/20220105/
CATEGORIES:在校生向け
END:VEVENT
BEGIN:VEVENT
DTSTART;TZID=Asia/Tokyo:20220129T091500
DTEND;TZID=Asia/Tokyo:20220129T173000
DTSTAMP:20260424T012618
CREATED:20220106T065009Z
LAST-MODIFIED:20220106T065511Z
UID:2165-1643447700-1643477400@www.kandagaigo.ac.jp
SUMMARY:3年生対象（2023年3月卒業予定者）　：　人事担当者による1日就職セミナー開催！！
DESCRIPTION:
URL:https://www.kandagaigo.ac.jp/kuis/main/career/events/20220129/
CATEGORIES:在校生向け
ATTACH;FMTTYPE=image/jpeg:https://www.kandagaigo.ac.jp/kuis/main/career/wp-content/uploads/2021/12/f923c2391780e875bc0f7dd7a99143a2.jpg
END:VEVENT
BEGIN:VEVENT
DTSTART;TZID=Asia/Tokyo:20220201T093000
DTEND;TZID=Asia/Tokyo:20220201T162000
DTSTAMP:20260424T012618
CREATED:20220121T063624Z
LAST-MODIFIED:20220121T063624Z
UID:2205-1643707800-1643732400@www.kandagaigo.ac.jp
SUMMARY:3年生対象（2023年3月卒業予定者）：参加推奨！本番前に出来ることはやっておこう！〈1日目〉【マイナビ主催】
DESCRIPTION:
URL:https://www.kandagaigo.ac.jp/kuis/main/career/events/20220201/
CATEGORIES:在校生向け
END:VEVENT
BEGIN:VEVENT
DTSTART;TZID=Asia/Tokyo:20220202T093000
DTEND;TZID=Asia/Tokyo:20220202T173000
DTSTAMP:20260424T012618
CREATED:20220121T063716Z
LAST-MODIFIED:20220121T063716Z
UID:2209-1643794200-1643823000@www.kandagaigo.ac.jp
SUMMARY:3年生対象（2023年3月卒業予定者）：参加推奨！本番前に出来ることはやっておこう！〈2日目〉【マイナビ主催】
DESCRIPTION:
URL:https://www.kandagaigo.ac.jp/kuis/main/career/events/20220202/
CATEGORIES:在校生向け
END:VEVENT
END:VCALENDAR