BEGIN:VCALENDAR
VERSION:2.0
PRODID:-//神田外語大学 キャリア教育センター - Kanda University of International Studies Career Education Center - ECPv5.4.0.2//NONSGML v1.0//EN
CALSCALE:GREGORIAN
METHOD:PUBLISH
X-WR-CALNAME:神田外語大学 キャリア教育センター - Kanda University of International Studies Career Education Center
X-ORIGINAL-URL:https://www.kandagaigo.ac.jp/kuis/main/career
X-WR-CALDESC:神田外語大学 キャリア教育センター - Kanda University of International Studies Career Education Center のイベント
BEGIN:VTIMEZONE
TZID:Asia/Tokyo
BEGIN:STANDARD
TZOFFSETFROM:+0900
TZOFFSETTO:+0900
TZNAME:JST
DTSTART:20210101T000000
END:STANDARD
END:VTIMEZONE
BEGIN:VEVENT
DTSTART;TZID=Asia/Tokyo:20211201T163000
DTEND;TZID=Asia/Tokyo:20211201T180000
DTSTAMP:20260424T032150
CREATED:20211125T020726Z
LAST-MODIFIED:20211220T061542Z
UID:2102-1638376200-1638381600@www.kandagaigo.ac.jp
SUMMARY:【3年生対象】教えて先輩！内定者の話を聞こう会
DESCRIPTION:
URL:https://www.kandagaigo.ac.jp/kuis/main/career/events/20211201/
CATEGORIES:在校生向け
END:VEVENT
BEGIN:VEVENT
DTSTART;TZID=Asia/Tokyo:20211208T163000
DTEND;TZID=Asia/Tokyo:20211208T180000
DTSTAMP:20260424T032150
CREATED:20211202T040541Z
LAST-MODIFIED:20211202T040721Z
UID:2148-1638981000-1638986400@www.kandagaigo.ac.jp
SUMMARY:【3年生対象】総合就職ガイダンス➁　＆　合同企業説明会の回り方 （マイナビ主催）
DESCRIPTION:
URL:https://www.kandagaigo.ac.jp/kuis/main/career/events/20211208/
CATEGORIES:在校生向け
ATTACH;FMTTYPE=image/png:https://www.kandagaigo.ac.jp/kuis/main/career/wp-content/uploads/2021/12/04a10fe14e703c75e8bec0d8a47575c5.png
END:VEVENT
BEGIN:VEVENT
DTSTART;TZID=Asia/Tokyo:20211215T163000
DTEND;TZID=Asia/Tokyo:20211215T180000
DTSTAMP:20260424T032150
CREATED:20211209T054216Z
LAST-MODIFIED:20211209T054216Z
UID:2155-1639585800-1639591200@www.kandagaigo.ac.jp
SUMMARY:3年生対象（2023年3月卒業予定者）：WEB面接・動画選考対策講座【マイナビ主催】
DESCRIPTION:
URL:https://www.kandagaigo.ac.jp/kuis/main/career/events/20211215/
CATEGORIES:在校生向け
END:VEVENT
END:VCALENDAR