BEGIN:VCALENDAR
VERSION:2.0
PRODID:-//神田外語大学 キャリア教育センター - Kanda University of International Studies Career Education Center - ECPv5.4.0.2//NONSGML v1.0//EN
CALSCALE:GREGORIAN
METHOD:PUBLISH
X-WR-CALNAME:神田外語大学 キャリア教育センター - Kanda University of International Studies Career Education Center
X-ORIGINAL-URL:https://www.kandagaigo.ac.jp/kuis/main/career
X-WR-CALDESC:神田外語大学 キャリア教育センター - Kanda University of International Studies Career Education Center のイベント
BEGIN:VTIMEZONE
TZID:Asia/Tokyo
BEGIN:STANDARD
TZOFFSETFROM:+0900
TZOFFSETTO:+0900
TZNAME:JST
DTSTART:20210101T000000
END:STANDARD
END:VTIMEZONE
BEGIN:VEVENT
DTSTART;VALUE=DATE:20210709
DTEND;VALUE=DATE:20210714
DTSTAMP:20260424T120200
CREATED:20210624T005837Z
LAST-MODIFIED:20210624T010307Z
UID:1684-1625788800-1626220799@www.kandagaigo.ac.jp
SUMMARY:2021年7月WEB合同会社説明会
DESCRIPTION:
URL:https://www.kandagaigo.ac.jp/kuis/main/career/events/2021%e5%b9%b47%e6%9c%88web%e5%90%88%e5%90%8c%e4%bc%9a%e7%a4%be%e8%aa%ac%e6%98%8e%e4%bc%9a/
CATEGORIES:在校生向け
END:VEVENT
BEGIN:VEVENT
DTSTART;TZID=Asia/Tokyo:20210712T121500
DTEND;TZID=Asia/Tokyo:20210712T130500
DTSTAMP:20260424T120200
CREATED:20210707T003439Z
LAST-MODIFIED:20210707T004501Z
UID:1776-1626092100-1626095100@www.kandagaigo.ac.jp
SUMMARY:Teach For Japan 会社説明会 & サマーインターンシップ説明会
DESCRIPTION:
URL:https://www.kandagaigo.ac.jp/kuis/main/career/events/teach-for-japan-%e4%bc%9a%e7%a4%be%e8%aa%ac%e6%98%8e%e4%bc%9a-%e3%82%b5%e3%83%9e%e3%83%bc%e3%82%a4%e3%83%b3%e3%82%bf%e3%83%bc%e3%83%b3%e3%82%b7%e3%83%83%e3%83%97%e8%aa%ac%e6%98%8e%e4%bc%9a/
CATEGORIES:在校生向け
ATTACH;FMTTYPE=image/jpeg:https://www.kandagaigo.ac.jp/kuis/main/career/wp-content/uploads/2021/07/833441_s.jpg
END:VEVENT
BEGIN:VEVENT
DTSTART;TZID=Asia/Tokyo:20210714T163000
DTEND;TZID=Asia/Tokyo:20210714T180000
DTSTAMP:20260424T120200
CREATED:20210629T084726Z
LAST-MODIFIED:20210629T090545Z
UID:1715-1626280200-1626285600@www.kandagaigo.ac.jp
SUMMARY:メイクアップセミナー【就活・インターンシップ向け】
DESCRIPTION:
URL:https://www.kandagaigo.ac.jp/kuis/main/career/events/%e3%83%a1%e3%82%a4%e3%82%af%e3%82%a2%e3%83%83%e3%83%97%e3%82%bb%e3%83%9f%e3%83%8a%e3%83%bc/
CATEGORIES:在校生向け
ATTACH;FMTTYPE=image/jpeg:https://www.kandagaigo.ac.jp/kuis/main/career/wp-content/uploads/2021/06/a74074f9ef1ac73a8470c250ff343a52.jpg
END:VEVENT
BEGIN:VEVENT
DTSTART;TZID=Asia/Tokyo:20210716T121000
DTEND;TZID=Asia/Tokyo:20210716T133000
DTSTAMP:20260424T120200
CREATED:20210702T055024Z
LAST-MODIFIED:20210706T042826Z
UID:1751-1626437400-1626442200@www.kandagaigo.ac.jp
SUMMARY:航空会社、その次は何だ！　セミナー
DESCRIPTION:
URL:https://www.kandagaigo.ac.jp/kuis/main/career/events/%e8%88%aa%e7%a9%ba%e4%bc%9a%e7%a4%be%e3%81%9d%e3%81%ae%e6%ac%a1%e3%81%af%e4%bd%95%e3%81%a0/
CATEGORIES:在校生向け
END:VEVENT
BEGIN:VEVENT
DTSTART;TZID=Asia/Tokyo:20210716T121500
DTEND;TZID=Asia/Tokyo:20210716T130500
DTSTAMP:20260424T120200
CREATED:20210705T050721Z
LAST-MODIFIED:20210705T051006Z
UID:1764-1626437700-1626440700@www.kandagaigo.ac.jp
SUMMARY:警察官・消防官ガイダンス
DESCRIPTION:
URL:https://www.kandagaigo.ac.jp/kuis/main/career/events/20200716/
CATEGORIES:在校生向け
ATTACH;FMTTYPE=image/jpeg:https://www.kandagaigo.ac.jp/kuis/main/career/wp-content/uploads/2021/07/koumuin.jpg
END:VEVENT
BEGIN:VEVENT
DTSTART;VALUE=DATE:20210719
DTEND;VALUE=DATE:20210725
DTSTAMP:20260424T120200
CREATED:20210720T054004Z
LAST-MODIFIED:20210720T061631Z
UID:1787-1626652800-1627171199@www.kandagaigo.ac.jp
SUMMARY:SALC SDG AWARENESS WEEK ２０２１
DESCRIPTION:
URL:https://www.kandagaigo.ac.jp/kuis/main/career/events/salc%e3%80%80%e3%82%a4%e3%83%99%e3%83%b3%e3%83%88/
CATEGORIES:在校生向け
END:VEVENT
END:VCALENDAR