BEGIN:VCALENDAR
VERSION:2.0
PRODID:-//神田外語大学 キャリア教育センター - Kanda University of International Studies Career Education Center - ECPv5.4.0.2//NONSGML v1.0//EN
CALSCALE:GREGORIAN
METHOD:PUBLISH
X-WR-CALNAME:神田外語大学 キャリア教育センター - Kanda University of International Studies Career Education Center
X-ORIGINAL-URL:https://www.kandagaigo.ac.jp/kuis/main/career
X-WR-CALDESC:神田外語大学 キャリア教育センター - Kanda University of International Studies Career Education Center のイベント
BEGIN:VTIMEZONE
TZID:Asia/Tokyo
BEGIN:STANDARD
TZOFFSETFROM:+0900
TZOFFSETTO:+0900
TZNAME:JST
DTSTART:20210101T000000
END:STANDARD
END:VTIMEZONE
BEGIN:VEVENT
DTSTART;VALUE=DATE:20210602
DTEND;VALUE=DATE:20210603
DTSTAMP:20260424T135226
CREATED:20210519T140917Z
LAST-MODIFIED:20210520T002138Z
UID:1595-1622592000-1622678399@www.kandagaigo.ac.jp
SUMMARY:【1・2年生対象】公務員ガイダンス
DESCRIPTION:
URL:https://www.kandagaigo.ac.jp/kuis/main/career/events/%e5%85%ac%e5%8b%99%e5%93%a1%e3%82%ac%e3%82%a4%e3%83%80%e3%83%b3%e3%82%b9/
CATEGORIES:在校生向け
ATTACH;FMTTYPE=image/jpeg:https://www.kandagaigo.ac.jp/kuis/main/career/wp-content/uploads/2021/05/3089006_s.jpg
END:VEVENT
BEGIN:VEVENT
DTSTART;TZID=Asia/Tokyo:20210614T121500
DTEND;TZID=Asia/Tokyo:20210614T130500
DTSTAMP:20260424T135226
CREATED:20210602T094811Z
LAST-MODIFIED:20210602T103453Z
UID:1608-1623672900-1623675900@www.kandagaigo.ac.jp
SUMMARY:国際大学大学院説明会
DESCRIPTION:
URL:https://www.kandagaigo.ac.jp/kuis/main/career/events/%e5%9b%bd%e9%9a%9b%e5%a4%a7%e5%ad%a6%e5%a4%a7%e5%ad%a6%e9%99%a2%e8%aa%ac%e6%98%8e%e4%bc%9a/
CATEGORIES:在校生向け
ATTACH;FMTTYPE=image/jpeg:https://www.kandagaigo.ac.jp/kuis/main/career/wp-content/uploads/2021/06/4891252_s.jpg
END:VEVENT
BEGIN:VEVENT
DTSTART;TZID=Asia/Tokyo:20210615T121500
DTEND;TZID=Asia/Tokyo:20210615T130500
DTSTAMP:20260424T135226
CREATED:20210602T101536Z
LAST-MODIFIED:20210602T102822Z
UID:1613-1623759300-1623762300@www.kandagaigo.ac.jp
SUMMARY:ボーダレス･ジャパン「社会起業家セミナー～ソーシャルビジネスで社会課題を解決する～」
DESCRIPTION:
URL:https://www.kandagaigo.ac.jp/kuis/main/career/events/%e3%83%9c%e3%83%bc%e3%83%80%e3%83%ac%e3%82%b9%ef%bd%a5%e3%82%b8%e3%83%a3%e3%83%91%e3%83%b3%e3%82%bb%e3%83%9f%e3%83%8a%e3%83%bc/
CATEGORIES:在校生向け
END:VEVENT
BEGIN:VEVENT
DTSTART;VALUE=DATE:20210622
DTEND;VALUE=DATE:20210630
DTSTAMP:20260424T135226
CREATED:20210621T103001Z
LAST-MODIFIED:20210624T050032Z
UID:1676-1624320000-1625011199@www.kandagaigo.ac.jp
SUMMARY:6月22日～29日WEB合同会社説明会
DESCRIPTION:
URL:https://www.kandagaigo.ac.jp/kuis/main/career/events/2021%e5%b9%b46%e6%9c%88web%e5%90%88%e5%90%8c%e4%bc%9a%e7%a4%be%e8%aa%ac%e6%98%8e%e4%bc%9a/
CATEGORIES:在校生向け
END:VEVENT
END:VCALENDAR