BEGIN:VCALENDAR
VERSION:2.0
PRODID:-//神田外語大学 キャリア教育センター - Kanda University of International Studies Career Education Center - ECPv5.4.0.2//NONSGML v1.0//EN
CALSCALE:GREGORIAN
METHOD:PUBLISH
X-WR-CALNAME:神田外語大学 キャリア教育センター - Kanda University of International Studies Career Education Center
X-ORIGINAL-URL:https://www.kandagaigo.ac.jp/kuis/main/career
X-WR-CALDESC:神田外語大学 キャリア教育センター - Kanda University of International Studies Career Education Center のイベント
BEGIN:VTIMEZONE
TZID:Asia/Tokyo
BEGIN:STANDARD
TZOFFSETFROM:+0900
TZOFFSETTO:+0900
TZNAME:JST
DTSTART:20210101T000000
END:STANDARD
END:VTIMEZONE
BEGIN:VEVENT
DTSTART;TZID=Asia/Tokyo:20210412T163000
DTEND;TZID=Asia/Tokyo:20210412T173000
DTSTAMP:20260424T190436
CREATED:20210408T083553Z
LAST-MODIFIED:20210408T235504Z
UID:1420-1618245000-1618248600@www.kandagaigo.ac.jp
SUMMARY:キャリア教育関連科目ガイダンス
DESCRIPTION:
URL:https://www.kandagaigo.ac.jp/kuis/main/career/events/guidance20210412/
CATEGORIES:在校生向け
ATTACH;FMTTYPE=image/jpeg:https://www.kandagaigo.ac.jp/kuis/main/career/wp-content/uploads/2021/03/career_02_06.jpg
END:VEVENT
BEGIN:VEVENT
DTSTART;VALUE=DATE:20210415
DTEND;VALUE=DATE:20210416
DTSTAMP:20260424T190436
CREATED:20210408T090013Z
LAST-MODIFIED:20210409T000540Z
UID:1430-1618444800-1618531199@www.kandagaigo.ac.jp
SUMMARY:【2022年卒対象】IT企業合同説明会のお知らせ
DESCRIPTION:
URL:https://www.kandagaigo.ac.jp/kuis/main/career/events/web-goudou-seminar-2021-04-15/
CATEGORIES:在校生向け
END:VEVENT
BEGIN:VEVENT
DTSTART;TZID=Asia/Tokyo:20210428T163000
DTEND;TZID=Asia/Tokyo:20210428T180000
DTSTAMP:20260424T190436
CREATED:20210420T064055Z
LAST-MODIFIED:20210506T055608Z
UID:1492-1619627400-1619632800@www.kandagaigo.ac.jp
SUMMARY:就職ガイダンス第１回
DESCRIPTION:
URL:https://www.kandagaigo.ac.jp/kuis/main/career/events/guidance0428/
CATEGORIES:在校生向け
ATTACH;FMTTYPE=image/jpeg:https://www.kandagaigo.ac.jp/kuis/main/career/wp-content/uploads/2021/05/0.jpg
END:VEVENT
END:VCALENDAR